BEGIN:VCALENDAR
VERSION:2.0
PRODID:Events Booking
BEGIN:VEVENT
UID:69e54d87a4707
SUMMARY:Vaki Zmorge
DESCRIPTION:Vater-Kind Zmorgen
DTSTART:20240810T070000Z
DTEND:20240810T090000Z
DTSTAMP:20260419T234751Z
ORGANIZER;CN=Elternverein Arni:MAILTO:info@elternverein-arni.ch
END:VEVENT
END:VCALENDAR